BEGIN:VCALENDAR
VERSION:2.0
PRODID:-//Tukios.com/
BEGIN:VEVENT
UID:ee48d4c4-2986-4bb6-b5ed-8a55d28c1d56@www.bellcypertseale.com
DTSTAMP:20260423T201801Z
DTSTART:20260423T230000Z
DTEND:20260424T000000Z
SUMMARY:Visitation
DESCRIPTION:
URL:https://www.bellcypertseale.com/obituaries/edalia-goodart
LOCATION:BELL-CYPERT-SEALE FUNERAL HOME 3101 College Avenue  Snyder TX 
	79549
GEO:32.7109326;-100.9192454
END:VEVENT
END:VCALENDAR