BEGIN:VCALENDAR
VERSION:2.0
PRODID:-//Tukios.com/
BEGIN:VEVENT
UID:6afea572-4ff1-4284-a9aa-afbdfa662176@www.bellcypertseale.com
DTSTAMP:20260423T201810Z
DTSTART:20260424T150000Z
DTEND:20260424T160000Z
SUMMARY:Funeral Service
DESCRIPTION:
URL:https://www.bellcypertseale.com/obituaries/edalia-goodart
LOCATION:BELL-CYPERT-SEALE FUNERAL HOME 3101 College Avenue  Snyder TX 
	79549
GEO:32.7109326;-100.9192454
END:VEVENT
END:VCALENDAR