BEGIN:VCALENDAR
VERSION:2.0
PRODID:-//Tukios.com/
BEGIN:VEVENT
UID:f5b7cc06-31b6-48f7-b009-21f2b69697ae@www.bellcypertseale.com
DTSTAMP:20260421T084558Z
DTSTART:20260418T190000Z
DTEND:20260418T200000Z
SUMMARY:Celebration of Life
DESCRIPTION:
URL:https://www.bellcypertseale.com/obituaries/emmett-lee
LOCATION:Bell-Cypert-Seale Chapel 3101 College Avenue  Snyder TX 79549
GEO:32.7109326;-100.9192454
END:VEVENT
END:VCALENDAR